BEGIN:VCALENDAR
VERSION:2.0
PRODID:-//ChamberMaster//Event Calendar 2.0//EN
METHOD:PUBLISH
X-PUBLISHED-TTL:P3D
REFRESH-INTERVAL:P3D
CALSCALE:GREGORIAN
BEGIN:VEVENT
DTSTART:20260122T160000Z
DTEND:20260122T230000Z
X-MICROSOFT-CDO-ALLDAYEVENT:FALSE
SUMMARY:Wayfair Wilmette Open House
DESCRIPTION:You're invited! Join us for an in-store Open House event exclusively for Wayfair Professional members.\n\nDuring the Open House\, you'll have the chance to:\n\nMeet the Team: Get to know the Wayfair experts who can provide in-person support on your projects.\n\nExplore Design Services: Learn more about our FREE design services - including interior design\, home renovation\, and custom cabinetry.\n\nEnjoy Exclusive Savings: Take advantage of a special 10% off discount for purchases up to $5000 available only to attendees of this event. Shop deeply discounted Open Box Returns and Floor Models\, including 50% off Floor Model Appliances. Perfect for your next staging project or short-term rental design.\n\nTour the Store: Get a guided tour and discover new products and solutions for your professional needs. As a reminder\, as a Wayfair Professional member\, you can access all your member benefits in store - including exclusive Pro pricing!\n\nWe're looking forward to seeing you there!
X-ALT-DESC;FMTTYPE=text/html:<p>You&#39\;re invited! Join us for an in-store Open House event exclusively for Wayfair Professional members.</p>\n\n<p>During the Open House\, you&#39\;ll have the chance to:</p>\n\n<p>Meet the Team:&nbsp\;Get to know the Wayfair experts who can provide in-person support on your projects.</p>\n\n<p>Explore Design Services:&nbsp\;Learn more about our FREE design services - including interior design\, home renovation\, and custom cabinetry.</p>\n\n<p>Enjoy Exclusive Savings:&nbsp\;Take advantage of a special&nbsp\;10% off discount&nbsp\;for purchases up to $5000 available only to attendees of this event. Shop deeply discounted Open Box Returns and Floor Models\, including&nbsp\;50% off Floor Model Appliances. Perfect for your next staging project or short-term rental design.</p>\n\n<p>Tour the Store:&nbsp\;Get a guided tour and discover new products and solutions for your professional needs. As a reminder\, as a Wayfair Professional member\, you can&nbsp\;access all your member benefits in store - including exclusive Pro pricing!</p>\n\n<p>We&#39\;re looking forward to seeing you there!</p>\n
LOCATION:Wayfair 3232 Lake Ave.\, Wilmette
UID:e.259.17683
SEQUENCE:3
DTSTAMP:20260425T104125Z
URL:https://chamber.winnetkanorthfieldchamber.com/events/details/wayfair-wilmette-open-house-17683
END:VEVENT

END:VCALENDAR
