BEGIN:VCALENDAR
VERSION:2.0
PRODID:-//ChamberMaster//Event Calendar 2.0//EN
METHOD:PUBLISH
X-PUBLISHED-TTL:P3D
REFRESH-INTERVAL:P3D
CALSCALE:GREGORIAN
BEGIN:VEVENT
DTSTART:20090430T043000Z
DTEND:20090429T183000Z
X-MICROSOFT-CDO-ALLDAYEVENT:FALSE
SUMMARY:RECOGNITION LUNCHEON
DESCRIPTION:"Spring Recognition Luncheon" is an annual tribute to honor outstanding individuals for their extraordianry service and contributions to the Winnetka community. Awards are given for a Winnetka: business leader\, male and female volunteers\, educator\, public safety officers and Village\, Park District or Library employee. This year's awardees are: Business Leader - Kevin Salus (Grand Food Center)\; Man of the Year - Ken Behles (Village Trustee and Winnetka Historical Society Contributor)\; Woman of the Year - Judy Archambault (Treasurer for Women's Exchange and former Treasurer for the North Shore Art League)\; Educator - Susan Sullivan (Technology Coordinator at Sacred Heart School)\; Winnetka/Northfield Public Library Employee- Judy Wright\; and Public Safety Employee - Winnetka Police Dective Miroslaw Kiec. All are invited to attend the Chamber's luncheon which includes a fashion show\, silent auction\, and complimentary gift bag. Assigned seating is available.
X-ALT-DESC;FMTTYPE=text/html:<div>&quot\;Spring Recognition Luncheon&quot\; is an annual tribute to honor outstanding individuals for their extraordianry service and contributions to the Winnetka community.</div><div>&nbsp\;</div><div>Awards are given for a Winnetka: business leader\, male and female volunteers\,&nbsp\;educator\,&nbsp\;public safety officers and Village\, Park District or Library employee.</div><div>&nbsp\;</div><div>This year&rsquo\;s awardees are: <strong>Business Leader - Kevin Salus (Grand Food Center)\; Man of the Year&nbsp\;- Ken Behles (Village Trustee and Winnetka Historical Society Contributor)\;&nbsp\;Woman of the Year - Judy Archambault (Treasurer for Women&rsquo\;s Exchange and former Treasurer for the North Shore Art League)\;&nbsp\;Educator - Susan Sullivan (Technology Coordinator at Sacred Heart School)\; Winnetka/Northfield Public Library Employee- Judy Wright\; and Public Safety Employee - Winnetka Police Dective Miroslaw Kiec.</strong></div><div>&nbsp\;</div><div>All are invited to attend the Chamber&rsquo\;s luncheon which includes a fashion show\, silent auction\, and complimentary gift bag.&nbsp\;Assigned seating is available.</div>
LOCATION:Winnetka Community House\, 620 Lincoln Avenue\, Winnetka
UID:e.259.673
SEQUENCE:3
DTSTAMP:20260426T002829Z
URL:https://chamber.winnetkanorthfieldchamber.com/events/details/recognition-luncheon-04-29-2009-673
END:VEVENT

END:VCALENDAR
