BEGIN:VCALENDAR
VERSION:2.0
PRODID:-//ChamberMaster//Event Calendar 2.0//EN
METHOD:PUBLISH
X-PUBLISHED-TTL:P3D
REFRESH-INTERVAL:P3D
CALSCALE:GREGORIAN
BEGIN:VEVENT
DTSTART;VALUE=DATE:20100311
DTEND;VALUE=DATE:20100312
TRANSP:TRANSPARENT
X-MICROSOFT-CDO-ALLDAYEVENT:TRUE
SUMMARY:Open House After Hours Featuring Pine Street Businesses
DESCRIPTION:Join us for networking and enjoy a variety of wine and hors d'oeuvres at each of the following businesses located in the Winnetka Community House\, 620 Lincoln Avenue North Shore Art LeagueCome to the second floor gallery and visit the North Shore Art League's newest exhibit\, PrintWorks.  The show features original prints using lithography\, intaglio\, relief\, mono-print\, serigraphy and difital compostion. . . . . . . . . . . . . . . . many done right here in our premier printmaking studio. Winnetka Youth OrganizationVisit the WYO Teen Center on the lower level and take a look back in time through our 40 years of service with an historical photo display.  Even challenge your fellow Chamber members to a game of foosball! Women's ExhchangeExperience the campus-like setting of the Women's Exchange on the second floor of Harkness Hall.  Spin "The Wheel" for prizes including tickets to our April "Cabaret" Benefit. Winnetka Community House & Catered by DesignCome join us in the Tyrell room\, located across from the front desk\, for some sweet treats & coffee and find out what is new at the Community House. Visti them all!
X-ALT-DESC;FMTTYPE=text/html:<div>Join us for networking and enjoy a variety of wine and hors d'oeuvres at each of the following businesses located in the Winnetka Community House\, 620 Lincoln Avenue</div><div>&nbsp\;</div><div style="text-align: center"><span style="font-size: small"><strong>North Shore Art League</strong></span></div><div style="text-align: left">Come to the second floor gallery and visit the North Shore Art League's newest exhibit\, PrintWorks.&nbsp\; The show features original prints using lithography\, intaglio\, relief\, mono-print\, serigraphy and difital compostion. . . . . . . . . . . . . . . . many done right here in our premier printmaking studio.</div><div style="text-align: left">&nbsp\;</div><div style="text-align: center"><strong><span style="font-size: small">Winnetka Youth Organization</span></strong></div><div style="text-align: left"><span style="font-size: small"><span style="font-size: smaller">Visit the WYO Teen Center on the lower level and take a look back in time through our 40 years of service with an historical photo display.&nbsp\; Even challenge your fellow Chamber members to a game of foosball!</span></span></div><div style="text-align: left">&nbsp\;</div><div style="text-align: center"><span style="font-size: small"><span style="font-size: smaller"><span style="font-size: small"><strong>Women's Exhchange</strong></span></span></span></div><div style="text-align: left"><span style="font-size: small"><span style="font-size: small"><span style="font-size: smaller">Experience the campus-like setting of the Women's Exchange on the second floor of Harkness Hall.&nbsp\; Spin &quot\;The Wheel&quot\; for prizes in</span></span></span><span style="font-size: small"><span style="font-size: small"><span style="font-size: smaller">cluding tickets to our April &quot\;Cabaret&quot\; Benefit.</span></span></span></div><div style="text-align: left">&nbsp\;</div><div style="text-align: center"><span style="font-size: small"><span style="font-size: small"><span style="font-size: smaller"><strong><span style="font-size: small">Winnetka Community House &amp\; Catered by Design</span></strong></span></span></span></div><div style="text-align: left"><span style="font-size: small"><span style="font-size: small"><span style="font-size: small"><span style="font-size: smaller">Come join us in the Tyrell room\, located across from the front desk\, for some sweet treats &amp\; coffee and find out what is new at the Community House.</span></span></span></span></div><div style="text-align: left">&nbsp\;</div><div style="text-align: center"><span style="font-size: small"><span style="font-size: small"><span style="font-size: small"><span style="font-size: smaller"><span style="font-size: small"><strong>Visti them all!</strong></span></span></span></span></span></div>
LOCATION:Winnetka Community House620 Lincoln AvenueWinnetka
UID:e.259.1039
SEQUENCE:3
DTSTAMP:20260423T073312Z
URL:https://chamber.winnetkanorthfieldchamber.com/events/details/open-house-after-hours-featuring-pine-street-businesses-03-11-2010-1039
END:VEVENT

END:VCALENDAR
