BEGIN:VCALENDAR
VERSION:2.0
PRODID:-//ChamberMaster//Event Calendar 2.0//EN
METHOD:PUBLISH
X-PUBLISHED-TTL:P3D
REFRESH-INTERVAL:P3D
CALSCALE:GREGORIAN
BEGIN:VEVENT
DTSTART:20090520T123000Z
DTEND:20090520T141500Z
X-MICROSOFT-CDO-ALLDAYEVENT:FALSE
SUMMARY:Multi Chamber--Connect--5/20/2009
DESCRIPTION:Multiply your networking potential by meeting with fifteen Chambers: DBR\, Evanston\, Glenview\, Glencoe\, Lincolnwood\, Morton Grove\, Niles\, Northbrook\, Northfield\, Park Ridge\, Skokie\, Wheeling/Prospect Heights\, Wilmette and Winnetka!!! This is a perfect place for a productive networking experience. Within a structured format of this program\, you will have an opportunity to speak to a receptive audience about your business products and services.  Groups will be divided into small groups at assigned tables where everyone will give 2 minute presentations. After moving to a second table\, there will be time for a second presentation.Networking begins PROMPTLY at 7:45am. In addition\, everyone will receive a contact list of pre-registered participants! Make sure you arrive early enough to enjoy a terrific hot breakfast.
X-ALT-DESC;FMTTYPE=text/html:<div style="margin: 0in 0in 0pt"><span style="font-size: 7pt">Multiply your networking potential by meeting with fifteen Chambers: DBR\, Evanston\, Glenview\, Glencoe\, Lincolnwood\, Morton Grove\, Niles\, Northbrook\, Northfield\, Park Ridge\, Skokie\, Wheeling/Prospect Heights\, Wilmette and Winnetka!!!</span></div><div style="margin: 0in 0in 0pt">&nbsp\;</div><div style="margin: 0in 0in 0pt"><span style="font-size: 7pt">This is a perfect place&nbsp\;</span><span style="font-size: 7pt">for a productive networking experience. Within a&nbsp\;</span><span style="font-size: 7pt">structured format of this program\, you will have&nbsp\;an opportunity to speak to a receptive audience about&nbsp\;your business products and services.&nbsp\; Groups&nbsp\;will be divided into small groups at assigned tables where everyone will give 2 minute presentations.&nbsp\;After moving&nbsp\;to a second table\, there will be time for a second presentation.</span></div><p><span style="font-size: 7pt">Networking begins PROMPTLY at 7:45am. In addition\, everyone will receive a contact list of pre-registered participants! </span></p><div style="margin: 0in 0in 0pt"><span style="font-size: 7pt">Make sure you arrive early enough to enjoy a terrific hot breakfast.</span></div>
LOCATION:The DoubletreeHotel & ConferenceCenterChicagoNorthShore9599 Skokie Blvd.\, Skokie(near Old Orchard at Golf Road and Skokie Boulevard)
UID:e.259.629
SEQUENCE:3
DTSTAMP:20260425T231013Z
URL:https://chamber.winnetkanorthfieldchamber.com/events/details/multi-chamber-connect-5-20-2009-05-20-2009-629
END:VEVENT

END:VCALENDAR
