BEGIN:VCALENDAR
VERSION:2.0
PRODID:-//ChamberMaster//Event Calendar 2.0//EN
METHOD:PUBLISH
X-PUBLISHED-TTL:P3D
REFRESH-INTERVAL:P3D
CALSCALE:GREGORIAN
BEGIN:VEVENT
DTSTART:20260501T220000Z
DTEND:20260502T000000Z
X-MICROSOFT-CDO-ALLDAYEVENT:FALSE
SUMMARY:Hubbard Woods Design District First Friday Chocolate Walk
DESCRIPTION:On Friday\, May 1st\, the Hubbard Woods Design District will host its inaugural First Friday event of 2026! The event will celebrate a sweet start to Spring\, with the district hosting its annual chocolate walk. Shops throughout the district will feature a variety of special treats\, from candy to popsicles\, and more! The event will run from 4-7 PM and include cocktails and live music throughout the district to make the night both fun and festive. \n\n\n\nFirst Friday takes place every month between May and October in the Hubbard Woods district\, the premier spot on Chicago's North Shore for the best in art\, home\, design\, fashion\, and dining. The area includes over a mile of walkable shopping throughout the charming and historic downtown. \n\n\n\nDon't miss out on the festivities happening in Hubbard Woods!
X-ALT-DESC;FMTTYPE=text/html:<span style="font-family:times new roman\,serif">On Friday\, May 1<sup>st</sup>\, the Hubbard Woods Design District will host its inaugural First Friday event of 2026! The event will celebrate a sweet start to Spring\, with the district hosting its annual chocolate walk. Shops throughout the district will feature a variety of special treats\, from candy to popsicles\, and more! The event will run from 4-7 PM and include cocktails and live music throughout the district to make the night both fun and festive.&nbsp\;</span><br />\n<br />\n<span style="font-family:times new roman\,serif">First Friday takes place every month between May and October in the Hubbard Woods district\, the premier spot on Chicago&rsquo\;s North Shore for the best in art\, home\, design\, fashion\, and dining. The area includes over a mile of walkable shopping throughout the charming and historic downtown.&nbsp\;</span><br />\n<br />\n<span style="font-family:times new roman\,serif">Don&rsquo\;t miss out on the festivities happening in Hubbard Woods!&nbsp\;</span>
LOCATION:939 Green Bay Rd.\, Winnetka\, IL 60093
UID:e.259.18045
SEQUENCE:3
DTSTAMP:20260421T175758Z
URL:https://chamber.winnetkanorthfieldchamber.com/events/details/hubbard-woods-design-district-first-friday-chocolate-walk-18045
END:VEVENT

END:VCALENDAR
