BEGIN:VCALENDAR
VERSION:2.0
PRODID:-//ChamberMaster//Event Calendar 2.0//EN
METHOD:PUBLISH
X-PUBLISHED-TTL:P3D
REFRESH-INTERVAL:P3D
CALSCALE:GREGORIAN
BEGIN:VEVENT
DTSTART;VALUE=DATE:20091205
DTEND;VALUE=DATE:20091207
TRANSP:TRANSPARENT
X-MICROSOFT-CDO-ALLDAYEVENT:TRUE
SUMMARY:ANNUAL WINNETKA HOLIDAY WEEKEND--December 2009
DESCRIPTION:The Annual Winnetka Holiday Weekend is a celebration which includes elementary school singing groups\, professional carolers\, open horse and wagon rides\, visits from Santa and Mrs. Claus\, soothing coplimentary refreshments\, and a wonderland of unique gifts for the holidays!Treat yourself to unparalled customer service from friendly\, helpful salespeople. Enjoy shopping and fun witout the hassle of crowded malls!
X-ALT-DESC;FMTTYPE=text/html:<p>The Annual Winnetka Holiday Weekend is a celebration&nbsp\;which includes elementary school singing groups\, professional carolers\, open horse and wagon rides\, visits from Santa and Mrs. Claus\, soothing coplimentary refreshments\, and a wonderland of unique gifts for the holidays!</p><p>Treat yourself to unparalled&nbsp\;customer service from friendly\, helpful salespeople. Enjoy shopping and fun witout the hassle of crowded malls!&nbsp\;</p><p>&nbsp\;</p>
LOCATION:Hubbard Woods (on the north) and East Elm Street (including Lincoln Avenue)
UID:e.259.856
SEQUENCE:3
DTSTAMP:20260425T121804Z
URL:https://chamber.winnetkanorthfieldchamber.com/events/details/annual-winnetka-holiday-weekend-december-2009-12-05-2009-856
END:VEVENT

END:VCALENDAR
