BEGIN:VCALENDAR
VERSION:2.0
PRODID:-//ChamberMaster//Event Calendar 2.0//EN
METHOD:PUBLISH
X-PUBLISHED-TTL:P3D
REFRESH-INTERVAL:P3D
CALSCALE:GREGORIAN
BEGIN:VEVENT
DTSTART;VALUE=DATE:20100316
DTEND;VALUE=DATE:20100317
TRANSP:TRANSPARENT
X-MICROSOFT-CDO-ALLDAYEVENT:TRUE
SUMMARY:After Hours--Fresh Ideas--March 2010
DESCRIPTION:Join us for anAfter HoursHosted by Fresh Ideas Clothing Co.Join fellow chamber members and guests from the Northfield\, Glencoe and Winnetka Chambers for a fun evening of networking\, conversation and refreshments at Fresh Ideas Clothing Co.
X-ALT-DESC;FMTTYPE=text/html:<div style="text-align: center"><strong><span style="font-size: small">Join us for an</span></strong></div><div style="text-align: center"><strong><span style="font-size: small">After Hours</span></strong></div><div style="text-align: center"><span style="font-size: small">Hosted by <strong>Fresh Ideas Clothing Co.</strong></span></div><div style="text-align: left">Join fellow chamber members and guests from the Northfield\, Glencoe and Winnetka Chambers for a fun evening of networking\, conversation and refreshments at Fresh Ideas Clothing Co.</div>
LOCATION:Fresh Ideas Clothing Co.300 Happ RoadNorthfield
UID:e.259.1040
SEQUENCE:3
DTSTAMP:20260423T073057Z
URL:https://chamber.winnetkanorthfieldchamber.com/events/details/after-hours-fresh-ideas-march-2010-03-16-2010-1040
END:VEVENT

END:VCALENDAR
