BEGIN:VCALENDAR
VERSION:2.0
PRODID:-//ChamberMaster//Event Calendar 2.0//EN
METHOD:PUBLISH
X-PUBLISHED-TTL:P3D
REFRESH-INTERVAL:P3D
CALSCALE:GREGORIAN
BEGIN:VEVENT
DTSTART;VALUE=DATE:20100422
DTEND;VALUE=DATE:20100423
TRANSP:TRANSPARENT
X-MICROSOFT-CDO-ALLDAYEVENT:TRUE
SUMMARY:After Hours--Chestnut Square at the Glen--April 2010
DESCRIPTION:Join us for anAfter HoursHosted by Chestnut Square at the GlenMonday\, April 22\, 2010 Join members of the Northfield\, Winnetka and Glencoe Chambers and learn more about the many amenities at the elegant\, Prairie style reitrement community\, which include a cafe\, library and fitness center\, while enjoying cocktails and appetizers. Complimentary valet parking will be available. Bring plenty of business cards for networking and for a chance to win a raffle prize.
X-ALT-DESC;FMTTYPE=text/html:<div style="text-align: center"><span style="font-size: small"><strong>Join us for an</strong></span></div><div style="text-align: center"><span style="font-size: small"><strong>After Hours</strong></span></div><div style="text-align: center"><span style="font-size: small">Hosted by <strong>Chestnut Square at the Glen</strong></span></div><div style="text-align: center"><span style="font-size: small"><strong>Monday\, April 22\, 2010</strong></span></div><div style="text-align: center">&nbsp\;</div><div style="text-align: left"><span style="font-size: small"><strong>Join members of the Northfield\, Winnetka and Glencoe Chambers and learn more about the many amenities at the elegant\, Prairie style reitrement community\, which include a cafe\, library and fitness center\, while enjoying cocktails and appetizers.</strong></span></div><div style="text-align: left">&nbsp\;</div><div style="text-align: left"><span style="font-size: small"><strong>Complimentary valet parking will be available.</strong></span></div><div style="text-align: left">&nbsp\;</div><div style="text-align: left"><span style="font-size: small"><strong>Bring plenty of business cards for networking and for a chance to win a raffle prize.</strong></span></div>
LOCATION:Chestnut Square at the Glen2601 Chestnut\, Glenview
UID:e.259.1041
SEQUENCE:3
DTSTAMP:20260423T060547Z
URL:https://chamber.winnetkanorthfieldchamber.com/events/details/after-hours-chestnut-square-at-the-glen-april-2010-04-22-2010-1041
END:VEVENT

END:VCALENDAR
